BEGIN:VCALENDAR
VERSION:2.0
PRODID:-//Sabre//Sabre VObject 3.5.3//EN
CALSCALE:GREGORIAN
BEGIN:VEVENT
SUMMARY:Ex 14-Ex Tesisat Projelendirme Eğitimi
DTSTART:20220513T000000Z
DTEND:20220513T000000Z
URL:http://seyirakademi.com/tr/ex-14-ex-tesisat-projelendirme-egitimi/7
CATEGORIES:
ORGANIZER:efari.bahcevan@seyir.com
END:VEVENT
END:VCALENDAR
