BEGIN:VCALENDAR
VERSION:2.0
PRODID:-//Sabre//Sabre VObject 3.5.3//EN
CALSCALE:GREGORIAN
BEGIN:VEVENT
SUMMARY:Ex Ekipman Kurulum Bakım Montaj Eğitimi
DTSTART:20220627T000000Z
DTEND:20220628T000000Z
URL:http://seyirakademi.com/tr/ex-ekipman-kurulum-bakim-montaj-egitimi/6
CATEGORIES:
ORGANIZER:efari.bahcevan@seyir.com
END:VEVENT
END:VCALENDAR
