BEGIN:VCALENDAR
VERSION:2.0
PRODID:-//Sabre//Sabre VObject 3.5.3//EN
CALSCALE:GREGORIAN
BEGIN:VEVENT
SUMMARY:HAZOP
DTSTART:20200725T090000Z
DTEND:20200726T170000Z
URL:http://seyirakademi.com/tr/hazop/5
CATEGORIES:
ORGANIZER:efari.bahcevan@seyirakademi.com
END:VEVENT
END:VCALENDAR
