BEGIN:VCALENDAR
VERSION:2.0
PRODID:-//Sabre//Sabre VObject 3.5.3//EN
CALSCALE:GREGORIAN
BEGIN:VEVENT
SUMMARY:IECEx Unit 007\, IECEx Unit 008 Eğitimi
DTSTART:20200711T000000Z
DTEND:20200712T000000Z
URL:http://seyirakademi.com/tr/iecex-unit-007-iecex-unit-008-egitimi/4
CATEGORIES:TEKNİK EĞİTİM
ORGANIZER:efari.bahcevan@seyirakademi.ccom
END:VEVENT
END:VCALENDAR
