BEGIN:VCALENDAR
VERSION:2.0
PRODID:-//Sabre//Sabre VObject 3.5.3//EN
CALSCALE:GREGORIAN
BEGIN:VEVENT
SUMMARY:IECEx Unit 001\, IECEx Unit 003 Eğitimi
DTSTART:20200706T000000Z
DTEND:20200708T000000Z
URL:http://seyirakademi.com/tr/iecex-unit-001-iecex-unit-003-egitimi/2
CATEGORIES:Teknik Eğitim
ORGANIZER:efari.bahcevan@seyirakademi.com
END:VEVENT
END:VCALENDAR
