BEGIN:VCALENDAR
VERSION:2.0
PRODID:-//Sabre//Sabre VObject 3.5.3//EN
CALSCALE:GREGORIAN
BEGIN:VEVENT
SUMMARY:IECEx Eğitimi Ex Ekipmanların Kurulumu\, Montajı ve Bakımı Eğ
 itimi
DTSTART:20180706T000000Z
DTEND:20180708T000000Z
URL:http://seyirakademi.com/tr/iecex-egitimi-ex-ekipmanlarin-kurulumu-monta
 ji-ve-bakimi-egitimi/1
CATEGORIES:Teknik Eğitim
ORGANIZER:efari.bahcevan@seyirakademi.com
END:VEVENT
END:VCALENDAR
